BEGIN:VCALENDAR
PRODID:-//kirchenweb.ch gmbh//veranstaltungsausgabe v2.0//DE
VERSION:2.0
METHOD:PUBLISH
BEGIN:VEVENT
DTSTART:20260621T071500Z
DTEND:20260621T113000Z
LOCATION:Ref. Kirche\, \,
TRANSP:OPAQUE
SEQUENCE:0
UID:11507-veranstaltung@kirchesumiswald.ch
DTSTAMP:20250715T091228Z
DESCRIPTION:Einrichten und Mithelfen\n\nKontakt: Simon Schüpbach\, 079
  274 37 67\n\nWeitere Infos:
  https://www.kirchesumiswald.ch/veranstaltung/11507
SUMMARY:Unterstützung bei Anlässen KUW 7/8 (Gemeindezmittag)
PRIORITY:5
X-MICROSOFT-CDO-IMPORTANCE:1
CLASS:PUBLIC
END:VEVENT
END:VCALENDAR
