BEGIN:VCALENDAR
PRODID:-//kirchenweb.ch gmbh//veranstaltungsausgabe v2.0//DE
VERSION:2.0
METHOD:PUBLISH
BEGIN:VEVENT
DTSTART:20251224T210000Z
DTEND:20251224T220000Z
LOCATION:Ref. Kirche\, \,
TRANSP:OPAQUE
SEQUENCE:0
UID:11559-veranstaltung@kirchesumiswald.ch
DTSTAMP:20251211T070111Z
DESCRIPTION:Mit Prädikant Manfred Tanner\, Otto Haizmann (Orgel) und
  Anouk Walther (Harfe)\n\nKontakt: mirja.zimmermann@kirchesumiswald.ch\n
 \nWeitere Infos: https://www.kirchesumiswald.ch/veranstaltung/11559
SUMMARY:Christnachtfeier
PRIORITY:5
X-MICROSOFT-CDO-IMPORTANCE:1
CLASS:PUBLIC
END:VEVENT
END:VCALENDAR
