BEGIN:VCALENDAR
PRODID:-//kirchenweb.ch gmbh//veranstaltungsausgabe v2.0//DE
VERSION:2.0
METHOD:PUBLISH
BEGIN:VEVENT
DTSTART:20260422T113000Z
DTEND:20260422T150000Z
LOCATION:Unterweisungsraum 1. Stock Kirchgemeindehaus\, \,
TRANSP:OPAQUE
SEQUENCE:0
UID:12157-veranstaltung@kirchesumiswald.ch
DTSTAMP:20250715T083058Z
DESCRIPTION:1 Punkt\nSich jedes Wochenende wegknallen? Profis vom Blauen
  Kreuz schauen mit dir das Konsumverhalten von Jugendlichen in deinem
  Alter an. \nDu setzt dich zudem mit deiner Haltung zu Alkohol und anderen
  Suchtmittel auseinander.\nUnter Anleitung von Profis mixen wir
  alkoholfreie Drinks und kreieren unsere eigenen Favourites. Yummie!\n
 \nMitnehmen: Handy\n\nLeitung: Fachpersonen des Blauen Kreuzes\n
 \nOrganisation: Eliane Reist\n\n\nKontakt: Eliane Reist\, 079 873 38 32\n
 \nWeitere Infos: https://www.kirchesumiswald.ch/veranstaltung/12157
SUMMARY:KUW 7/8 WFK: Blue Cocktail Bar
PRIORITY:5
X-MICROSOFT-CDO-IMPORTANCE:1
CLASS:PUBLIC
END:VEVENT
END:VCALENDAR
