BEGIN:VCALENDAR
PRODID:-//kirchenweb.ch gmbh//veranstaltungsausgabe v2.0//DE
VERSION:2.0
METHOD:PUBLISH
BEGIN:VEVENT
DTSTART:20251204T120000Z
DTEND:20251204T160000Z
LOCATION:Unterweisungsraum 1. Stock Kirchgemeindehaus\, \,
TRANSP:OPAQUE
SEQUENCE:0
UID:12158-veranstaltung@kirchesumiswald.ch
DTSTAMP:20251014T140320Z
DESCRIPTION:1 Punkt\nDieser Wahlfachkurs (ent)führt dich in die Welt der
  EscapeGames. \n\nSchaffen wir es gemeinsam\, das Rätsel zu lösen und
  die Box zu knacken?\nKnobel dich von Aufgabe zu Aufgabe und lasse dich
  von neuen Rätseln und überraschenden Elementen nicht aufhalten.\n\nFür
  diesen Kurs gibt es eine Dispensation von der Schule\, welche durch die
  Kirchgemeinden Sumiswald und Wasen organisiert wird. \n\nOrt:
  Kirchgemeindehaus Sumiswald\n\nLeitung: Eliane Reist\n\n\nKontakt: Eliane
  Reist\, 079 873 38 32\n\nWeitere Infos:
  https://www.kirchesumiswald.ch/veranstaltung/12158
SUMMARY:KUW 7/8 WFK: Escape Game
PRIORITY:5
X-MICROSOFT-CDO-IMPORTANCE:1
CLASS:PUBLIC
END:VEVENT
END:VCALENDAR
