BEGIN:VCALENDAR
PRODID:-//kirchenweb.ch gmbh//veranstaltungsausgabe v2.0//DE
VERSION:2.0
METHOD:PUBLISH
BEGIN:VEVENT
DTSTART:20260424T143000Z
DTEND:20260424T170000Z
LOCATION:Kirche / Kirchenstübli Wasen\, \,
TRANSP:OPAQUE
SEQUENCE:0
UID:12164-veranstaltung@kirchesumiswald.ch
DTSTAMP:20250715T084702Z
DESCRIPTION:1 Punkt\nDu hilfst dem KUW-Team bei den Vorbereitungen und der
  Durchführung der KUW (2.Klasse). Gemeinsam erarbeitet ihr die
  Unterrichtslektion.\nDieser Kurs beinhaltet eine Vorbereitungssitzung\,
  das gemeinsame Aufräumen und die Anwesenheit und Mithilfe während des
  Unterrichts. \n\nDie Vorbereitungssitzung findet gemäss Informationen
  des KUW-Teams statt.\n\nLeitung:  Eliane Reist und Karin Minder\n
 \nKontakt: Eliane Reist\, 079 873 38 32\n\nWeitere Infos:
  https://www.kirchesumiswald.ch/veranstaltung/12164
SUMMARY:KUW 7/8 WFK: Mithelfen KUW 2. Klasse Wasen
PRIORITY:5
X-MICROSOFT-CDO-IMPORTANCE:1
CLASS:PUBLIC
END:VEVENT
END:VCALENDAR
