BEGIN:VCALENDAR
PRODID:-//kirchenweb.ch gmbh//veranstaltungsausgabe v2.0//DE
VERSION:2.0
METHOD:PUBLISH
BEGIN:VEVENT
DTSTART:20251214T090000Z
DTEND:20251214T100000Z
LOCATION:Ref. Kirche\, \,
TRANSP:OPAQUE
SEQUENCE:0
UID:12180-veranstaltung@kirchesumiswald.ch
DTSTAMP:20251010T091659Z
DESCRIPTION:Hauptprobe am Samstag\, 13. Dezember 2025\, um 10.00. Uhr in
  der Kirche.\n\nKontakt: Pfrn. Mirja Zimmermann\n\nWeitere Infos:
  https://www.kirchesumiswald.ch/veranstaltung/12180
SUMMARY:Unterstützung bei Gottesdiensten KUW 7/8 (Familienweihnachten)
PRIORITY:5
X-MICROSOFT-CDO-IMPORTANCE:1
CLASS:PUBLIC
END:VEVENT
END:VCALENDAR
