BEGIN:VCALENDAR
PRODID:-//kirchenweb.ch gmbh//veranstaltungsausgabe v2.0//DE
VERSION:2.0
METHOD:PUBLISH
BEGIN:VEVENT
DTSTART:20251231T150000Z
DTEND:20251231T173000Z
LOCATION:Ref. Kirche\, \,
TRANSP:OPAQUE
SEQUENCE:0
UID:12182-veranstaltung@kirchesumiswald.ch
DTSTAMP:20250715T090824Z
DESCRIPTION:Einrichten und Mithelfen\n\nKontakt: Kurt Ryser\, 034 431 41
  54\n\nWeitere Infos: https://www.kirchesumiswald.ch/veranstaltung/12182
SUMMARY:Unterstützung bei Anlässen KUW 7/8 (Silvester)
PRIORITY:5
X-MICROSOFT-CDO-IMPORTANCE:1
CLASS:PUBLIC
END:VEVENT
END:VCALENDAR
