BEGIN:VCALENDAR
PRODID:-//kirchenweb.ch gmbh//veranstaltungsausgabe v2.0//DE
VERSION:2.0
METHOD:PUBLISH
BEGIN:VEVENT
DTSTART:20260222T130000Z
DTEND:20260222T140000Z
LOCATION:Schonegg-Schulhaus\, \,
TRANSP:OPAQUE
SEQUENCE:0
UID:12183-veranstaltung@kirchesumiswald.ch
DTSTAMP:20250715T091130Z
DESCRIPTION:Probe am Freitag\, 20. Februar 2026\, 16.20 Uhr in der Kirche.
 \n\nKontakt: Pfrn. Jasmin Steffen\n\nWeitere Infos:
  https://www.kirchesumiswald.ch/veranstaltung/12183
SUMMARY:Unterstützung bei Gottesdiensten KUW 7/8 (Schonegg-Schulhaus)
PRIORITY:5
X-MICROSOFT-CDO-IMPORTANCE:1
CLASS:PUBLIC
END:VEVENT
END:VCALENDAR
