BEGIN:VCALENDAR
PRODID:-//kirchenweb.ch gmbh//veranstaltungsausgabe v2.0//DE
VERSION:2.0
METHOD:PUBLISH
BEGIN:VEVENT
DTSTART:20260322T090000Z
DTEND:20260322T103000Z
LOCATION:Ref. Kirche\, \,
TRANSP:OPAQUE
SEQUENCE:0
UID:12184-veranstaltung@kirchesumiswald.ch
DTSTAMP:20250715T091024Z
DESCRIPTION:Einrichten und Proben am Sonntag\, 22. März 2026\, ab 08.30
  Uhr. Anschliessend aufräumen.\n\nKontakt: Pfrn. Mirja Zimmermann\, 079
  581 51 54\n\nWeitere Infos:
  https://www.kirchesumiswald.ch/veranstaltung/12184
SUMMARY:Unterstützung bei Gottesdiensten KUW 7/8 (Espresso)
PRIORITY:5
X-MICROSOFT-CDO-IMPORTANCE:1
CLASS:PUBLIC
END:VEVENT
END:VCALENDAR
