BEGIN:VCALENDAR
PRODID:-//kirchenweb.ch gmbh//veranstaltungsausgabe v2.0//DE
VERSION:2.0
METHOD:PUBLISH
BEGIN:VEVENT
DTSTART:20251129T143000Z
DTEND:20251129T163000Z
LOCATION:Saal 2. Stock Kirchgemeindehaus\, \,
TRANSP:OPAQUE
SEQUENCE:0
UID:12191-veranstaltung@kirchesumiswald.ch
DTSTAMP:20251023T094823Z
DESCRIPTION:Kontakt: Michèle Schüpbach\, 079 267 86 85\n\nWeitere Infos:
  https://www.kirchesumiswald.ch/veranstaltung/12191
SUMMARY:Unterstützung bei Anlässen KUW 7/8 (Adventswerkstatt helfen)
PRIORITY:5
X-MICROSOFT-CDO-IMPORTANCE:1
CLASS:PUBLIC
END:VEVENT
END:VCALENDAR
