BEGIN:VCALENDAR
PRODID:-//kirchenweb.ch gmbh//veranstaltungsausgabe v2.0//DE
VERSION:2.0
METHOD:PUBLISH
BEGIN:VEVENT
DTSTART:20250824T081500Z
DTEND:20250824T091500Z
LOCATION:Salbühlegg\, bei schlechtem Wetter in der Kirche\, \,
TRANSP:OPAQUE
SEQUENCE:0
UID:12321-veranstaltung@kirchesumiswald.ch
DTSTAMP:20250429T141349Z
DESCRIPTION:Mit der Musikgesellschaft Sumiswald\n\nKontakt: Pfrn. Jasmin
  Steffen\n\nWeitere Infos:
  https://www.kirchesumiswald.ch/veranstaltung/12321
SUMMARY:Salbühlegg-Gottesdienst
PRIORITY:5
X-MICROSOFT-CDO-IMPORTANCE:1
CLASS:PUBLIC
END:VEVENT
END:VCALENDAR
