BEGIN:VCALENDAR
PRODID:-//kirchenweb.ch gmbh//veranstaltungsausgabe v2.0//DE
VERSION:2.0
METHOD:PUBLISH
BEGIN:VEVENT
DTSTART:20251005T073000Z
DTEND:20251005T083000Z
LOCATION:Ref. Kirche\, \,
TRANSP:OPAQUE
SEQUENCE:0
UID:12327-veranstaltung@kirchesumiswald.ch
DTSTAMP:20241016T080351Z
DESCRIPTION:Mit Annelies Schenk (Orgel).\n\nKontakt: Pfrn. Jasmin Steffen
 \n\nWeitere Infos: https://www.kirchesumiswald.ch/veranstaltung/12327
SUMMARY:Gottesdienst
PRIORITY:5
X-MICROSOFT-CDO-IMPORTANCE:1
CLASS:PUBLIC
END:VEVENT
END:VCALENDAR
