BEGIN:VCALENDAR
PRODID:-//kirchenweb.ch gmbh//veranstaltungsausgabe v2.0//DE
VERSION:2.0
METHOD:PUBLISH
BEGIN:VEVENT
DTSTART:20251012T073000Z
DTEND:20251012T083000Z
LOCATION:Ref. Kirche\, \,
TRANSP:OPAQUE
SEQUENCE:0
UID:12328-veranstaltung@kirchesumiswald.ch
DTSTAMP:20241016T080518Z
DESCRIPTION:Mit dem Jodlerklub Sumiswald-Grünen (Leitung: Marianne
  Weingart) und Monika Halter (Orgel).\n\nKontakt: Pfrn. Jasmin Steffen\n
 \nWeitere Infos: https://www.kirchesumiswald.ch/veranstaltung/12328
SUMMARY:Erntedank-Gottesdienst
PRIORITY:5
X-MICROSOFT-CDO-IMPORTANCE:1
CLASS:PUBLIC
END:VEVENT
END:VCALENDAR
