BEGIN:VCALENDAR
PRODID:-//kirchenweb.ch gmbh//veranstaltungsausgabe v2.0//DE
VERSION:2.0
METHOD:PUBLISH
BEGIN:VEVENT
DTSTART:20251102T083000Z
DTEND:20251102T093000Z
LOCATION:Ref. Kirche\, \,
TRANSP:OPAQUE
SEQUENCE:0
UID:12332-veranstaltung@kirchesumiswald.ch
DTSTAMP:20241016T080708Z
DESCRIPTION:Mit Otto Haizmann (Orgel).\n\nKontakt: Pfr. Theo Castelberg
  (Sumiswald)\n\nWeitere Infos:
  https://www.kirchesumiswald.ch/veranstaltung/12332
SUMMARY:Gottesdienst zum Reformationssonntag mit Abendmahl
PRIORITY:5
X-MICROSOFT-CDO-IMPORTANCE:1
CLASS:PUBLIC
END:VEVENT
END:VCALENDAR
