BEGIN:VCALENDAR
PRODID:-//kirchenweb.ch gmbh//veranstaltungsausgabe v2.0//DE
VERSION:2.0
METHOD:PUBLISH
BEGIN:VEVENT
DTSTART:20251109T090000Z
DTEND:20251109T100000Z
LOCATION:Ref. Kirche\, \,
TRANSP:OPAQUE
SEQUENCE:0
UID:12333-veranstaltung@kirchesumiswald.ch
DTSTAMP:20241016T080748Z
DESCRIPTION:Herzliche Einladung ab 09.15 Uhr zu Kaffee und Gipfeli.\n\nMit
  der Espresso Band.\n\n\nKontakt: Pfrn. Mirja Zimmermann\n\nWeitere Infos:
  https://www.kirchesumiswald.ch/veranstaltung/12333
SUMMARY:Espresso-Gottesdienst
PRIORITY:5
X-MICROSOFT-CDO-IMPORTANCE:1
CLASS:PUBLIC
END:VEVENT
END:VCALENDAR
