BEGIN:VCALENDAR
PRODID:-//kirchenweb.ch gmbh//veranstaltungsausgabe v2.0//DE
VERSION:2.0
METHOD:PUBLISH
BEGIN:VEVENT
DTSTART:20251130T083000Z
DTEND:20251130T093000Z
LOCATION:Ref. Kirche\, \,
TRANSP:OPAQUE
SEQUENCE:0
UID:12336-veranstaltung@kirchesumiswald.ch
DTSTAMP:20251128T064237Z
DESCRIPTION:mit der Musikgesellschaft Sumiswald\n\nKontakt: Pfrn. Barbara
  Joss\n\nWeitere Infos: https://www.kirchesumiswald.ch/veranstaltung/12336
SUMMARY:Gottesdienst zum 1. Advent
PRIORITY:5
X-MICROSOFT-CDO-IMPORTANCE:1
CLASS:PUBLIC
END:VEVENT
END:VCALENDAR
