BEGIN:VCALENDAR
PRODID:-//kirchenweb.ch gmbh//veranstaltungsausgabe v2.0//DE
VERSION:2.0
METHOD:PUBLISH
BEGIN:VEVENT
DTSTART:20251214T090000Z
DTEND:20251214T100000Z
LOCATION:Ref. Kirche\, \,
TRANSP:OPAQUE
SEQUENCE:0
UID:12338-veranstaltung@kirchesumiswald.ch
DTSTAMP:20251211T074053Z
DESCRIPTION:Mit Annelies Schenk (Orgel).\n\nKontakt:
  mirja.zimmermann@kirchesumiswald.ch\n\nWeitere Infos:
  https://www.kirchesumiswald.ch/veranstaltung/12338
SUMMARY:Familienweihnachts-Gottesdienst
PRIORITY:5
X-MICROSOFT-CDO-IMPORTANCE:1
CLASS:PUBLIC
END:VEVENT
END:VCALENDAR
