BEGIN:VCALENDAR
PRODID:-//kirchenweb.ch gmbh//veranstaltungsausgabe v2.0//DE
VERSION:2.0
METHOD:PUBLISH
BEGIN:VEVENT
DTSTART:20251231T160000Z
DTEND:20251231T170000Z
LOCATION:Ref. Kirche\, \,
TRANSP:OPAQUE
SEQUENCE:0
UID:12344-veranstaltung@kirchesumiswald.ch
DTSTAMP:20241016T081700Z
DESCRIPTION:Mit Otto Haizmann (Orgel).\n\nKontakt: Pfrn. Jasmin Steffen\n
 \nWeitere Infos: https://www.kirchesumiswald.ch/veranstaltung/12344
SUMMARY:Jahresschluss-Andacht mit Apéro
PRIORITY:5
X-MICROSOFT-CDO-IMPORTANCE:1
CLASS:PUBLIC
END:VEVENT
END:VCALENDAR
