BEGIN:VCALENDAR
PRODID:-//kirchenweb.ch gmbh//veranstaltungsausgabe v2.0//DE
VERSION:2.0
METHOD:PUBLISH
BEGIN:VEVENT
DTSTART:20251108T190000Z
DTEND:20251108T200000Z
LOCATION:Ref. Kirche\, \,
TRANSP:OPAQUE
SEQUENCE:0
UID:12419-veranstaltung@kirchesumiswald.ch
DTSTAMP:20251106T102906Z
DESCRIPTION:Kontakt: Ewald Lucas\, Dirigent Kirchenchor Sumiswald\n
 \nWeitere Infos: https://www.kirchesumiswald.ch/veranstaltung/12419
SUMMARY:Konzert der Kirchenchöre Sumiswald und Langnau
PRIORITY:5
X-MICROSOFT-CDO-IMPORTANCE:1
CLASS:PUBLIC
END:VEVENT
END:VCALENDAR
