BEGIN:VCALENDAR
PRODID:-//kirchenweb.ch gmbh//veranstaltungsausgabe v2.0//DE
VERSION:2.0
METHOD:PUBLISH
BEGIN:VEVENT
DTSTART:20251204T183000Z
DTEND:20251204T190000Z
LOCATION:Ref. Kirche\, \,
TRANSP:OPAQUE
SEQUENCE:0
UID:12776-veranstaltung@kirchesumiswald.ch
DTSTAMP:20250104T163344Z
DESCRIPTION:Kontakt: Pfrn. Jasmin Steffen\n\nWeitere Infos:
  https://www.kirchesumiswald.ch/veranstaltung/12776
SUMMARY:Atempause 2025
PRIORITY:5
X-MICROSOFT-CDO-IMPORTANCE:1
CLASS:PUBLIC
END:VEVENT
END:VCALENDAR
