BEGIN:VCALENDAR
PRODID:-//kirchenweb.ch gmbh//veranstaltungsausgabe v2.0//DE
VERSION:2.0
METHOD:PUBLISH
BEGIN:VEVENT
DTSTART:20260108T130000Z
DTEND:20260108T150000Z
LOCATION:Saal 2. Stock Kirchgemeindehaus\, \,
TRANSP:OPAQUE
SEQUENCE:0
UID:12876-veranstaltung@kirchesumiswald.ch
DTSTAMP:20251113T125259Z
DESCRIPTION:Lotto\n\nKontakt: kurt.ryser@kirchesumiswald.ch\n\nWeitere
  Infos: https://www.kirchesumiswald.ch/veranstaltung/12876
SUMMARY:Seniorennachmittag
PRIORITY:5
X-MICROSOFT-CDO-IMPORTANCE:1
CLASS:PUBLIC
END:VEVENT
END:VCALENDAR
