BEGIN:VCALENDAR
PRODID:-//kirchenweb.ch gmbh//veranstaltungsausgabe v2.0//DE
VERSION:2.0
METHOD:PUBLISH
BEGIN:VEVENT
DTSTART:20260131T080000Z
DTEND:20260131T110000Z
LOCATION:Unterweisungsraum 1. Stock Kirchgemeindehaus\, \,
TRANSP:OPAQUE
SEQUENCE:0
UID:13018-veranstaltung@kirchesumiswald.ch
DTSTAMP:20251212T070707Z
DESCRIPTION:Kontakt: kurt.ryser@kirchesumiswald.ch\n\nWeitere Infos:
  https://www.kirchesumiswald.ch/veranstaltung/13018
SUMMARY:KUW 2 Halbtag
PRIORITY:5
X-MICROSOFT-CDO-IMPORTANCE:1
CLASS:PUBLIC
END:VEVENT
END:VCALENDAR
