BEGIN:VCALENDAR
PRODID:-//kirchenweb.ch gmbh//veranstaltungsausgabe v2.0//DE
VERSION:2.0
METHOD:PUBLISH
BEGIN:VEVENT
DTSTART:20251127T130000Z
DTEND:20251127T150000Z
LOCATION:Cafeteria EG Kirchgemeindehaus\, \,
TRANSP:OPAQUE
SEQUENCE:0
UID:13083-veranstaltung@kirchesumiswald.ch
DTSTAMP:20250905T110214Z
DESCRIPTION:Kontakt: kurt.ryser@kirchesumiswald.ch\n\nWeitere Infos:
  https://www.kirchesumiswald.ch/veranstaltung/13083
SUMMARY:Kaffeetreff allerlei Kulturen
PRIORITY:5
X-MICROSOFT-CDO-IMPORTANCE:1
CLASS:PUBLIC
END:VEVENT
END:VCALENDAR
