BEGIN:VCALENDAR
PRODID:-//kirchenweb.ch gmbh//veranstaltungsausgabe v2.0//DE
VERSION:2.0
METHOD:PUBLISH
BEGIN:VEVENT
DTSTART:20251115T091500Z
DTEND:20251115T143000Z
LOCATION:Kirchgemeindehaus Sumiswald\, \,
TRANSP:OPAQUE
SEQUENCE:0
UID:13086-veranstaltung@kirchesumiswald.ch
DTSTAMP:20251113T065047Z
DESCRIPTION:2 Punkte\nEntdecke deine Kreativität\, deine Liebe zu
  Dingen\, deine Begabungen\, deine Glücksgefühlsmomente\, deine
  Herzhüpfer…\nGemeinsam halten wir sie kreativ in einem Heft fest.\n
 \nMitbringen: Magazine\, Karten\, Bilder\, Tickets\, Liedtexte\, trockene
  und gepresste Blumen\, Lebensmittelverpackung von Dingen welche du magst
  und dir wichtig sind.  \nLunch fürs Zmittag\nev. eigene Stifte\n
 \nLeitung:  Eliane Reist\n\nKontakt: Eliane Reist\, 079 873 38 32\n
 \nWeitere Infos: https://www.kirchesumiswald.ch/veranstaltung/13086
SUMMARY:KUW 7/8 WFK: Kreatives Tagebuch\, Scrapbook
PRIORITY:5
X-MICROSOFT-CDO-IMPORTANCE:1
CLASS:PUBLIC
END:VEVENT
END:VCALENDAR
