BEGIN:VCALENDAR
PRODID:-//kirchenweb.ch gmbh//veranstaltungsausgabe v2.0//DE
VERSION:2.0
METHOD:PUBLISH
BEGIN:VEVENT
DTSTART;VALUE=DATE:20260407
DTEND;VALUE=DATE:20260408
LOCATION:Kirchgemeindehaus Sumiswald\, \,
TRANSP:OPAQUE
SEQUENCE:0
UID:13088-veranstaltung@kirchesumiswald.ch
DTSTAMP:20250715T082950Z
DESCRIPTION:3 Punkte\nDu hilfst dem Kindertage-Team bei den Vorbereitungen
  und der Durchführung der KiTa 2026 Gemeinsam erarbeitet ihr Workshops\,
  helft in den Gruppenzeiten\, übernehmt Theaterrollen oder spielt in der
  Band mit. \n\nDieser Kurs beinhaltet zwei Vorbereitungssitzungen\, das
  gemeinsame Einrichten und Abbauen und die Anwesenheit und Mithilfe
  während den ganzen Kindertagen. \nBitte beachte\, dass dies ein Kurs mit
  einem sehr grossen Arbeitsaufwand ist.\n\nDie Vorbereitungssitzungen
  finden gemäss Informationen des KiTa-Teams statt\, die Kindertage selber
  vom 7. April bis am 10. April 2026 statt (jeweils ca. 13.00 bis 17.00
  Uhr). \n\n\nLeitung: Eliane Reist\n\n\nKontakt: Eliane Reist\, 079 873 38
  32\n\nWeitere Infos: https://www.kirchesumiswald.ch/veranstaltung/13088
SUMMARY:KUW 7/8 WFK: Mithelfen an den Kindertagen
PRIORITY:5
X-MICROSOFT-CDO-IMPORTANCE:1
CLASS:PUBLIC
END:VEVENT
END:VCALENDAR
