BEGIN:VCALENDAR
PRODID:-//kirchenweb.ch gmbh//veranstaltungsausgabe v2.0//DE
VERSION:2.0
METHOD:PUBLISH
BEGIN:VEVENT
DTSTART:20260520T120000Z
DTEND:20260520T143000Z
LOCATION:Alters- und Pflegezentrum sumia\, Sumiswald\, \,
TRANSP:OPAQUE
SEQUENCE:0
UID:13089-veranstaltung@kirchesumiswald.ch
DTSTAMP:20250715T083332Z
DESCRIPTION:1 Punkt\nDas sumia ist unser Altersheim in der Gemeinde. Das
  bedeutet: Es ist Lebens- und Wohnraum für die Bewohner:innen\, es ist
  Arbeits- und Begegnungsort gleichzeitig. Auch ältere Menschen freuen
  sich\, wenn etwas "läuft". Beim gemeinsamen Spielen\, Spazieren und
  Zvieriessen wollen wir einander etwas Zeit und Aufmerksamkeit schenken.\n
 \nDatum: Mittwoch\, 20. Mai 2026\, von 14.00 Uhr bis ca. 16.30 Uhr\,
  Alters- und Pflegezentrum sumia\, Sumiswald\n\nLeitung: Pflegende und
  Aktivierung im sumia\n\nBegleitung/Auskunft: Pfr. Matthias Zehnder\, 034
  437 15 69\n\nKontakt: Pfr. Matthias Zehnder\, 034 437 15 69\n\nWeitere
  Infos: https://www.kirchesumiswald.ch/veranstaltung/13089
SUMMARY:KUW 7/8 WFK: Spielnachmittag im sumia
PRIORITY:5
X-MICROSOFT-CDO-IMPORTANCE:1
CLASS:PUBLIC
END:VEVENT
END:VCALENDAR
