BEGIN:VCALENDAR
PRODID:-//kirchenweb.ch gmbh//veranstaltungsausgabe v2.0//DE
VERSION:2.0
METHOD:PUBLISH
BEGIN:VEVENT
DTSTART:20260529T150000Z
DTEND:20260529T214500Z
LOCATION:Wasen und Sensegraben\, \,
TRANSP:OPAQUE
SEQUENCE:0
UID:13090-veranstaltung@kirchesumiswald.ch
DTSTAMP:20250715T083933Z
DESCRIPTION:2 Punkte\nWenn es langsam Nacht wird im Sensegraben und der
  Mond aufgeht über der gespenstischen Ruine Grasburg\, dann steigen wir
  furchtlos in den Graben hinunter\, waten durch den kühlen Fluss\,
  stärken uns am offenen Feuer\, und lassen uns verzaubern von der
  speziellen Atmosphäre\, die von diesem Ort ausgeht. \n\nDu solltest
  Schwimmen können und über eine gewisse Ausdauer beim Wandern verfügen!
 \n\nVorbereitung: Mi.27. Mai 2026\, von 14.00 Uhr bis 15.30 Uhr im
  Chilchestübli Wasen\n\nExpedition: Fr. 29. Mai 2026\n17.00 Uhr vor dem
  Oberstufenschulhaus Wasen\n17.10 Uhr beim Bahnhof Sumiswald-Grünen
 \nRückkehr: um ca. 23.45 Uhr \n\nLeitung: Pfr. Matthias Zehnder
  (erreichbar während Ausflug unter 079 392 49 91)\n\nWichtig: \nKleiner
  Rucksack für unterwegs\, mit:\nTeva-Sandalen (alte Turnschuhe\, ...)\,
  Badehose/Turnhose/Shorts (werden nass)\, Badetuch\, Ersatz-Shirt und
  Windschutz im Plastiksack (als Wasserschutz)\, Sackmesser\, Handy und
  warme Kleider für danach bleiben im Bus.\n		\nBei schlechter Witterung
  oder erhöhter Gewitterneigung werden wir leider auf das Queren des
  Sensegrabens verzichten müssen. Doch auch dann werden wir vor allem
  draussen sein\, also: Unbedingt Regenjacke/-hose mitnehmen und
  trittsichere Schuhe anziehen! \n\nFür das Nachtessen und den Transport
  kommt die Kirchgemeinde Wasen auf. \n\nKontakt: Pfr. Matthias Zehnder\,
  034 437 15 69\, 079 392 49 91\n\nWeitere Infos:
  https://www.kirchesumiswald.ch/veranstaltung/13090
SUMMARY:KUW 7/8 WFK: Expedition Sensegraben
PRIORITY:5
X-MICROSOFT-CDO-IMPORTANCE:1
CLASS:PUBLIC
END:VEVENT
END:VCALENDAR
