BEGIN:VCALENDAR
PRODID:-//kirchenweb.ch gmbh//veranstaltungsausgabe v2.0//DE
VERSION:2.0
METHOD:PUBLISH
BEGIN:VEVENT
DTSTART:20260220T153000Z
DTEND:20260220T173000Z
LOCATION:Chilestübli Wasen i.E.\, \,
TRANSP:OPAQUE
SEQUENCE:0
UID:13091-veranstaltung@kirchesumiswald.ch
DTSTAMP:20250827T062238Z
DESCRIPTION:1 Punkt\nZentangle ist eine Mischung aus Meditation und
  Durcheinander. Es ist eine freie Zeichnung von immer wiederkehrenden
  Mustern\, aus Punkten\, Linien und einfachen Kurven und Kreisen.
  Zentangle soll helfen\, den Kopf freizubekommen und innere Ruhe zu
  finden.\n\nMitbringen: Bleistift\n\n\n\nKontakt: Lea von Ballmoos\, 079
  375 51 85\n\nWeitere Infos:
  https://www.kirchesumiswald.ch/veranstaltung/13091
SUMMARY:KUW 7/8 WFK: Zentangle
PRIORITY:5
X-MICROSOFT-CDO-IMPORTANCE:1
CLASS:PUBLIC
END:VEVENT
END:VCALENDAR
