BEGIN:VCALENDAR
PRODID:-//kirchenweb.ch gmbh//veranstaltungsausgabe v2.0//DE
VERSION:2.0
METHOD:PUBLISH
BEGIN:VEVENT
DTSTART:20260228T070000Z
DTEND:20260228T180000Z
LOCATION:Wasen und Salzminen Bex\, \,
TRANSP:OPAQUE
SEQUENCE:0
UID:13092-veranstaltung@kirchesumiswald.ch
DTSTAMP:20250827T062145Z
DESCRIPTION:2 Punkte\nFrüher galt Salz als Geschenk der Götter. Die
  Menschen gewannen es unter grossem Aufwand. Das weisse Gold war so
  wertvoll\, dass die Römer sogar ihre Soldaten damit bezahlten.\n\nDu
  willst mehr über das Salz wissen? Du willst in einem alten Minenzug in
  die Salzmine von Bex fahren und dort einen Rundgang mit Audioguide
  machen. Anschliessend - je nach Zeit und Wetter - noch ein bisschen
  Flanieren am schönen Genfersee - dann ist das der passende Ausflug für
  dich. \n\nInfos folgen\, ganzer Tag\n\nKostenbeteiligung: 10.- (Reise)\n
 \nLeitung: Lea von Ballmoos\, 079 375 51 85\, lea.vonballmoos@gmail.com\n
 \nKontakt: Lea von Ballmoos\, 079 375 51 85\n\nWeitere Infos:
  https://www.kirchesumiswald.ch/veranstaltung/13092
SUMMARY:KUW 7/8 WFK: Exkursion Salzminen Bex
PRIORITY:5
X-MICROSOFT-CDO-IMPORTANCE:1
CLASS:PUBLIC
END:VEVENT
END:VCALENDAR
