BEGIN:VCALENDAR
PRODID:-//kirchenweb.ch gmbh//veranstaltungsausgabe v2.0//DE
VERSION:2.0
METHOD:PUBLISH
BEGIN:VEVENT
DTSTART:20251211T120000Z
DTEND:20251211T160000Z
LOCATION:Saal 2. Stock Kirchgemeindehaus\, \,
TRANSP:OPAQUE
SEQUENCE:0
UID:13094-veranstaltung@kirchesumiswald.ch
DTSTAMP:20250910T102506Z
DESCRIPTION:1 Punkt\nDieser Wahlfachkurs (ent)führt dich in die Welt der
  EscapeGames. \n\nSchaffen wir es gemeinsam\, das Rätsel zu lösen und
  die Box zu knacken?\nKnobel dich von Aufgabe zu Aufgabe und lasse dich
  von neuen Rätseln und überraschenden Elementen nicht aufhalten.\n\nFür
  diesen Kurs gibt es eine Dispensation von der Schule\, welche durch die
  Kirchgemeinden Sumiswald und Wasen organisiert wird. \n\nOrt:
  Kirchgemeindehaus Sumiswald\n\nLeitung: Eliane Reist\n\n\nKontakt: Eliane
  Reist\, Tel. 079 873 38 32\n\nWeitere Infos:
  https://www.kirchesumiswald.ch/veranstaltung/13094
SUMMARY:KUW7/8 WFK: Escape Game
PRIORITY:5
X-MICROSOFT-CDO-IMPORTANCE:1
CLASS:PUBLIC
END:VEVENT
END:VCALENDAR
