BEGIN:VCALENDAR
PRODID:-//kirchenweb.ch gmbh//veranstaltungsausgabe v2.0//DE
VERSION:2.0
METHOD:PUBLISH
BEGIN:VEVENT
DTSTART:20260527T120000Z
DTEND:20260527T133000Z
LOCATION:Chilestübli Wasen i.E.\, \,
TRANSP:OPAQUE
SEQUENCE:0
UID:13095-veranstaltung@kirchesumiswald.ch
DTSTAMP:20250715T083830Z
DESCRIPTION:Kontakt: wahlfach.kurse@kirchesumiswald.ch\n\nWeitere Infos:
  https://www.kirchesumiswald.ch/veranstaltung/13095
SUMMARY:KUW7/8 WFK: Expedition Sensegraben
PRIORITY:5
X-MICROSOFT-CDO-IMPORTANCE:1
CLASS:PUBLIC
END:VEVENT
END:VCALENDAR
