BEGIN:VCALENDAR
PRODID:-//kirchenweb.ch gmbh//veranstaltungsausgabe v2.0//DE
VERSION:2.0
METHOD:PUBLISH
BEGIN:VEVENT
DTSTART:20251025T113000Z
DTEND:20251025T150000Z
LOCATION:auswärts\, \,
TRANSP:OPAQUE
SEQUENCE:0
UID:13147-veranstaltung@kirchesumiswald.ch
DTSTAMP:20251023T094046Z
DESCRIPTION:Kontakt: Simu 079 692 64 31\nwww.js-wasum.ch\n\nWeitere Infos:
  https://www.kirchesumiswald.ch/veranstaltung/13147
SUMMARY:Jungschi WaSum
PRIORITY:5
X-MICROSOFT-CDO-IMPORTANCE:1
CLASS:PUBLIC
END:VEVENT
END:VCALENDAR
