BEGIN:VCALENDAR
PRODID:-//kirchenweb.ch gmbh//veranstaltungsausgabe v2.0//DE
VERSION:2.0
METHOD:PUBLISH
BEGIN:VEVENT
DTSTART:20260111T083000Z
DTEND:20260111T093000Z
LOCATION:Ref. Kirche\, \,
TRANSP:OPAQUE
SEQUENCE:0
UID:13172-veranstaltung@kirchesumiswald.ch
DTSTAMP:20251014T094943Z
DESCRIPTION:mit Otto Haizmann (Orgel)\n\nKontakt: Pfrn. Jasmin Steffen\n
 \nWeitere Infos: https://www.kirchesumiswald.ch/veranstaltung/13172
SUMMARY:Gottesdienst
PRIORITY:5
X-MICROSOFT-CDO-IMPORTANCE:1
CLASS:PUBLIC
END:VEVENT
END:VCALENDAR
