BEGIN:VCALENDAR
PRODID:-//kirchenweb.ch gmbh//veranstaltungsausgabe v2.0//DE
VERSION:2.0
METHOD:PUBLISH
BEGIN:VEVENT
DTSTART:20260322T090000Z
DTEND:20260322T100000Z
LOCATION:Ref. Kirche\, \,
TRANSP:OPAQUE
SEQUENCE:0
UID:13174-veranstaltung@kirchesumiswald.ch
DTSTAMP:20251014T130124Z
DESCRIPTION:mit der Espresso Band / Herzliche Einladung ab 09.15 Uhr zu
  Kaffee und Gipfeli.\n\n\n\nKontakt: Pfrn. Mirja Zimmermann\n\nWeitere
  Infos: https://www.kirchesumiswald.ch/veranstaltung/13174
SUMMARY:Espresso-Gottesdienst
PRIORITY:5
X-MICROSOFT-CDO-IMPORTANCE:1
CLASS:PUBLIC
END:VEVENT
END:VCALENDAR
