BEGIN:VCALENDAR
PRODID:-//kirchenweb.ch gmbh//veranstaltungsausgabe v2.0//DE
VERSION:2.0
METHOD:PUBLISH
BEGIN:VEVENT
DTSTART:20260614T080000Z
DTEND:20260614T090000Z
LOCATION:Ref. Kirche\, \,
TRANSP:OPAQUE
SEQUENCE:0
UID:13175-veranstaltung@kirchesumiswald.ch
DTSTAMP:20251014T131751Z
DESCRIPTION:mit der Espresso Band \n/ Herzliche Einladung ab 09.15 Uhr zu
  Kaffee und Gipfeli.\n\n\n\nKontakt: Pfrn. Barbara Joss\n\nWeitere Infos:
  https://www.kirchesumiswald.ch/veranstaltung/13175
SUMMARY:Espresso-Gottesdienst
PRIORITY:5
X-MICROSOFT-CDO-IMPORTANCE:1
CLASS:PUBLIC
END:VEVENT
END:VCALENDAR
