BEGIN:VCALENDAR
PRODID:-//kirchenweb.ch gmbh//veranstaltungsausgabe v2.0//DE
VERSION:2.0
METHOD:PUBLISH
BEGIN:VEVENT
DTSTART:20260222T130000Z
DTEND:20260222T140000Z
LOCATION:auswärts\, \,
TRANSP:OPAQUE
SEQUENCE:0
UID:13181-veranstaltung@kirchesumiswald.ch
DTSTAMP:20260205T083229Z
DESCRIPTION:mit dem Jodlerklub Sumiswald-Grünen (Leitung: Marianne
  Weingart) und Monika Halter (Klavier)\n\nFahrdienst T. Gatschet 079 545
  85 43\nAbfahrt Bus Dorfplatz um 13.15 Uhr\n\n\nKontakt: Pfrn. Jasmin
  Steffen\n\nWeitere Infos:
  https://www.kirchesumiswald.ch/veranstaltung/13181
SUMMARY:Gottesdienst im Schonegg-Schulhaus
PRIORITY:5
X-MICROSOFT-CDO-IMPORTANCE:1
CLASS:PUBLIC
END:VEVENT
END:VCALENDAR
