BEGIN:VCALENDAR
PRODID:-//kirchenweb.ch gmbh//veranstaltungsausgabe v2.0//DE
VERSION:2.0
METHOD:PUBLISH
BEGIN:VEVENT
DTSTART:20260405T073000Z
DTEND:20260405T083000Z
LOCATION:Ref. Kirche\, \,
TRANSP:OPAQUE
SEQUENCE:0
UID:13186-veranstaltung@kirchesumiswald.ch
DTSTAMP:20251014T130256Z
DESCRIPTION:mit dem Kirchenchor (Leitung: Ewald Lucas) und Otto Haizmann
  (Orgel)\n\n\nKontakt: Pfrn. Jasmin Steffen\n\nWeitere Infos:
  https://www.kirchesumiswald.ch/veranstaltung/13186
SUMMARY:Ostersonntag-Gottesdienst mit Abendmahl
PRIORITY:5
X-MICROSOFT-CDO-IMPORTANCE:1
CLASS:PUBLIC
END:VEVENT
END:VCALENDAR
