BEGIN:VCALENDAR
PRODID:-//kirchenweb.ch gmbh//veranstaltungsausgabe v2.0//DE
VERSION:2.0
METHOD:PUBLISH
BEGIN:VEVENT
DTSTART:20260524T080000Z
DTEND:20260524T090000Z
LOCATION:Ref. Kirche\, \,
TRANSP:OPAQUE
SEQUENCE:0
UID:13195-veranstaltung@kirchesumiswald.ch
DTSTAMP:20251016T080521Z
DESCRIPTION:mit den Konfirmandinnen und Konfirmanden 9A und Monika Halter
  (Orgel)\n\nKontakt: Pfrn. Mirja Zimmermann\n\nWeitere Infos:
  https://www.kirchesumiswald.ch/veranstaltung/13195
SUMMARY:Pfingst-Gottesdienst mit Konfirmation Klasse 9A
PRIORITY:5
X-MICROSOFT-CDO-IMPORTANCE:1
CLASS:PUBLIC
END:VEVENT
END:VCALENDAR
