BEGIN:VCALENDAR
PRODID:-//kirchenweb.ch gmbh//veranstaltungsausgabe v2.0//DE
VERSION:2.0
METHOD:PUBLISH
BEGIN:VEVENT
DTSTART:20261220T083000Z
DTEND:20261220T093000Z
LOCATION:Ref. Kirche\, \,
TRANSP:OPAQUE
SEQUENCE:0
UID:13200-veranstaltung@kirchesumiswald.ch
DTSTAMP:20251014T120526Z
DESCRIPTION:mit Monika Halter (Orgel)\n\nKontakt: Pfrn. Jasmin Steffen\n
 \nWeitere Infos: https://www.kirchesumiswald.ch/veranstaltung/13200
SUMMARY:Gottesdienst zum 4. Advent
PRIORITY:5
X-MICROSOFT-CDO-IMPORTANCE:1
CLASS:PUBLIC
END:VEVENT
END:VCALENDAR
