BEGIN:VCALENDAR
PRODID:-//kirchenweb.ch gmbh//veranstaltungsausgabe v2.0//DE
VERSION:2.0
METHOD:PUBLISH
BEGIN:VEVENT
DTSTART:20260726T073000Z
DTEND:20260726T083000Z
LOCATION:Ref. Kirche\, \,
TRANSP:OPAQUE
SEQUENCE:0
UID:13205-veranstaltung@kirchesumiswald.ch
DTSTAMP:20251014T111347Z
DESCRIPTION:mit Otto Haizmann (Orgel)\n\nKontakt: Pfrn. Jasmin Steffen\n
 \nWeitere Infos: https://www.kirchesumiswald.ch/veranstaltung/13205
SUMMARY:Gottesdienst
PRIORITY:5
X-MICROSOFT-CDO-IMPORTANCE:1
CLASS:PUBLIC
END:VEVENT
END:VCALENDAR
