BEGIN:VCALENDAR
PRODID:-//kirchenweb.ch gmbh//veranstaltungsausgabe v2.0//DE
VERSION:2.0
METHOD:PUBLISH
BEGIN:VEVENT
DTSTART;VALUE=DATE:20260913
DTEND;VALUE=DATE:20260914
LOCATION:auswärts\, \,
TRANSP:OPAQUE
SEQUENCE:0
UID:13211-veranstaltung@kirchesumiswald.ch
DTSTAMP:20260122T123918Z
DESCRIPTION:Kontakt: katrin.locher@kirchesumiswald.ch\n\nWeitere Infos:
  https://www.kirchesumiswald.ch/veranstaltung/13211
SUMMARY:kein Gottesdienst (SlowUp)
PRIORITY:5
X-MICROSOFT-CDO-IMPORTANCE:1
CLASS:PUBLIC
END:VEVENT
END:VCALENDAR
