BEGIN:VCALENDAR
PRODID:-//kirchenweb.ch gmbh//veranstaltungsausgabe v2.0//DE
VERSION:2.0
METHOD:PUBLISH
BEGIN:VEVENT
DTSTART:20260920T073000Z
DTEND:20260920T083000Z
LOCATION:auswärts\, \,
TRANSP:OPAQUE
SEQUENCE:0
UID:13212-veranstaltung@kirchesumiswald.ch
DTSTAMP:20251014T135015Z
DESCRIPTION:im EGW\n\nKontakt: Pfrn. Jasmin Steffen\n\nWeitere Infos:
  https://www.kirchesumiswald.ch/veranstaltung/13212
SUMMARY:Allianz-Gottesdienst am Eidgenössischen Dank-\, Buss- und Bettag
  mit der Einwohnergemeinde\, der Kirchgermeinde Wasen und dem EGW
PRIORITY:5
X-MICROSOFT-CDO-IMPORTANCE:1
CLASS:PUBLIC
END:VEVENT
END:VCALENDAR
