BEGIN:VCALENDAR
PRODID:-//kirchenweb.ch gmbh//veranstaltungsausgabe v2.0//DE
VERSION:2.0
METHOD:PUBLISH
BEGIN:VEVENT
DTSTART:20260429T100000Z
DTEND:20260429T210000Z
LOCATION:auswärts\, \,
TRANSP:OPAQUE
SEQUENCE:0
UID:13232-veranstaltung@kirchesumiswald.ch
DTSTAMP:20260205T091117Z
DESCRIPTION:Kontakt: bis Sonntag\n\nWeitere Infos:
  https://www.kirchesumiswald.ch/veranstaltung/13232
SUMMARY:Konflager
PRIORITY:5
X-MICROSOFT-CDO-IMPORTANCE:1
CLASS:PUBLIC
END:VEVENT
END:VCALENDAR
