BEGIN:VCALENDAR
PRODID:-//kirchenweb.ch gmbh//veranstaltungsausgabe v2.0//DE
VERSION:2.0
METHOD:PUBLISH
BEGIN:VEVENT
DTSTART:20260530T080000Z
DTEND:20260530T090000Z
LOCATION:Ref. Kirche\, \,
TRANSP:OPAQUE
SEQUENCE:0
UID:13238-veranstaltung@kirchesumiswald.ch
DTSTAMP:20251111T074111Z
DESCRIPTION:Kontakt: katrin.locher@kirchesumiswald.ch\n\nWeitere Infos:
  https://www.kirchesumiswald.ch/veranstaltung/13238
SUMMARY:Hauptprobe Konfirmation Klasse 9B
PRIORITY:5
X-MICROSOFT-CDO-IMPORTANCE:1
CLASS:PUBLIC
END:VEVENT
END:VCALENDAR
