BEGIN:VCALENDAR
PRODID:-//kirchenweb.ch gmbh//veranstaltungsausgabe v2.0//DE
VERSION:2.0
METHOD:PUBLISH
BEGIN:VEVENT
DTSTART:20261112T160000Z
DTEND:20261112T170000Z
LOCATION:Ref. Kirche\, \,
TRANSP:OPAQUE
SEQUENCE:0
UID:13253-veranstaltung@kirchesumiswald.ch
DTSTAMP:20251016T082606Z
DESCRIPTION:Kontakt: Pfrn. Mirja Zimmermann\n\nWeitere Infos:
  https://www.kirchesumiswald.ch/veranstaltung/13253
SUMMARY:GD KUW3
PRIORITY:5
X-MICROSOFT-CDO-IMPORTANCE:1
CLASS:PUBLIC
END:VEVENT
END:VCALENDAR
