BEGIN:VCALENDAR
PRODID:-//kirchenweb.ch gmbh//veranstaltungsausgabe v2.0//DE
VERSION:2.0
METHOD:PUBLISH
BEGIN:VEVENT
DTSTART:20261128T090000Z
DTEND:20261128T100000Z
LOCATION:Ref. Kirche\, \,
TRANSP:OPAQUE
SEQUENCE:0
UID:13293-veranstaltung@kirchesumiswald.ch
DTSTAMP:20251028T063738Z
DESCRIPTION:Kontakt: Pfrn. Mirja Zimmermann\n\nWeitere Infos:
  https://www.kirchesumiswald.ch/veranstaltung/13293
SUMMARY:Fyre mit de Chlyne
PRIORITY:5
X-MICROSOFT-CDO-IMPORTANCE:1
CLASS:PUBLIC
END:VEVENT
END:VCALENDAR
