BEGIN:VCALENDAR
PRODID:-//kirchenweb.ch gmbh//veranstaltungsausgabe v2.0//DE
VERSION:2.0
METHOD:PUBLISH
BEGIN:VEVENT
DTSTART:20260122T130000Z
DTEND:20260122T150000Z
LOCATION:Saal 2. Stock Kirchgemeindehaus\, \,
TRANSP:OPAQUE
SEQUENCE:0
UID:13307-veranstaltung@kirchesumiswald.ch
DTSTAMP:20251103T074751Z
DESCRIPTION:Kontakt: kurt.ryser@kirchesumiswald.ch\n\nWeitere Infos:
  https://www.kirchesumiswald.ch/veranstaltung/13307
SUMMARY:Kaffeetreff allerlei Kulturen
PRIORITY:5
X-MICROSOFT-CDO-IMPORTANCE:1
CLASS:PUBLIC
END:VEVENT
END:VCALENDAR
