BEGIN:VCALENDAR
PRODID:-//kirchenweb.ch gmbh//veranstaltungsausgabe v2.0//DE
VERSION:2.0
METHOD:PUBLISH
BEGIN:VEVENT
DTSTART:20260220T183000Z
DTEND:20260220T203000Z
LOCATION:Jugendraum Kirchgemeindehaus\, \,
TRANSP:OPAQUE
SEQUENCE:0
UID:13331-veranstaltung@kirchesumiswald.ch
DTSTAMP:20251113T123116Z
DESCRIPTION:Kontakt: katrin.locher@kirchesumiswald.ch\n\nWeitere Infos:
  https://www.kirchesumiswald.ch/veranstaltung/13331
SUMMARY:near to you (n2u)
PRIORITY:5
X-MICROSOFT-CDO-IMPORTANCE:1
CLASS:PUBLIC
END:VEVENT
END:VCALENDAR
