BEGIN:VCALENDAR
PRODID:-//kirchenweb.ch gmbh//veranstaltungsausgabe v2.0//DE
VERSION:2.0
METHOD:PUBLISH
BEGIN:VEVENT
DTSTART:20260702T180000Z
DTEND:20260702T190000Z
LOCATION:Sitzungszimmer 1. Stock Kirchgemeindehaus\, \,
TRANSP:OPAQUE
SEQUENCE:0
UID:13343-veranstaltung@kirchesumiswald.ch
DTSTAMP:20251113T124308Z
DESCRIPTION:Kontakt: Theo Castelberg\n\nWeitere Infos:
  https://www.kirchesumiswald.ch/veranstaltung/13343
SUMMARY:Gemeindegebet
PRIORITY:5
X-MICROSOFT-CDO-IMPORTANCE:1
CLASS:PUBLIC
END:VEVENT
END:VCALENDAR
