BEGIN:VCALENDAR
PRODID:-//kirchenweb.ch gmbh//veranstaltungsausgabe v2.0//DE
VERSION:2.0
METHOD:PUBLISH
BEGIN:VEVENT
DTSTART:20261105T190000Z
DTEND:20261105T200000Z
LOCATION:Sitzungszimmer 1. Stock Kirchgemeindehaus\, \,
TRANSP:OPAQUE
SEQUENCE:0
UID:13347-veranstaltung@kirchesumiswald.ch
DTSTAMP:20251113T124413Z
DESCRIPTION:Kontakt: Theo Castelberg\n\nWeitere Infos:
  https://www.kirchesumiswald.ch/veranstaltung/13347
SUMMARY:Gemeindegebet
PRIORITY:5
X-MICROSOFT-CDO-IMPORTANCE:1
CLASS:PUBLIC
END:VEVENT
END:VCALENDAR
